BEGIN:VCALENDAR
VERSION:2.0
PRODID:-//Plone.org//NONSGML plone.app.event//EN
X-WR-TIMEZONE:Europe/Madrid
BEGIN:VEVENT
SUMMARY:Concert de clausura 'Oda a la veu' - Festival Reafina
DTSTART;TZID=Europe/Madrid:20230715T200000
DTEND;TZID=Europe/Madrid:20230715T213000
DTSTAMP:20260422T040941Z
UID:395ecb32bc4a4267802634acd4a6c229@www.badalona.cat
CREATED:20231124T085358Z
LAST-MODIFIED:20231124T085358Z
URL:https://www.badalona.cat/ca/actualitat/agenda/35415
END:VEVENT
BEGIN:VTIMEZONE
TZID:Europe/Madrid
X-LIC-LOCATION:Europe/Madrid
BEGIN:DAYLIGHT
DTSTART:20230326T030000
TZNAME:CEST
TZOFFSETFROM:+0100
TZOFFSETTO:+0200
END:DAYLIGHT
END:VTIMEZONE
END:VCALENDAR
