BEGIN:VCALENDAR
VERSION:2.0
PRODID:-//Plone.org//NONSGML plone.app.event//EN
X-WR-TIMEZONE:Europe/Madrid
BEGIN:VEVENT
SUMMARY:Festival Reafina
DTSTART;TZID=Europe/Madrid:20230630T200000
DTEND;TZID=Europe/Madrid:20230715T213000
DTSTAMP:20260422T040918Z
UID:2905f7ba7a30429bac2bc94a82a9dda7@www.badalona.cat
CREATED:20231124T085358Z
LAST-MODIFIED:20231124T085358Z
URL:https://www.badalona.cat/ca/actualitat/agenda/35413
END:VEVENT
BEGIN:VTIMEZONE
TZID:Europe/Madrid
X-LIC-LOCATION:Europe/Madrid
BEGIN:DAYLIGHT
DTSTART:20230326T030000
TZNAME:CEST
TZOFFSETFROM:+0100
TZOFFSETTO:+0200
END:DAYLIGHT
END:VTIMEZONE
END:VCALENDAR
