BEGIN:VCALENDAR
VERSION:2.0
PRODID:-//Plone.org//NONSGML plone.app.event//EN
X-WR-TIMEZONE:Europe/Madrid
BEGIN:VEVENT
SUMMARY:Espectacle de màgia d’Enric Magoo i la maga Psiquelady  - Vespr
 es a la fresca a l'Associació de Veïns del Centre
DTSTART;TZID=Europe/Madrid:20230714T190000
DTEND;TZID=Europe/Madrid:20230714T203000
DTSTAMP:20260422T004949Z
UID:36ca123c62f64d8e99b498c98300963a@www.badalona.cat
CREATED:20231124T085358Z
LAST-MODIFIED:20231124T085358Z
URL:https://www.badalona.cat/ca/actualitat/agenda/35393
END:VEVENT
BEGIN:VTIMEZONE
TZID:Europe/Madrid
X-LIC-LOCATION:Europe/Madrid
BEGIN:DAYLIGHT
DTSTART:20230326T030000
TZNAME:CEST
TZOFFSETFROM:+0100
TZOFFSETTO:+0200
END:DAYLIGHT
END:VTIMEZONE
END:VCALENDAR
