BEGIN:VCALENDAR
VERSION:2.0
PRODID:-//Plone.org//NONSGML plone.app.event//EN
X-WR-TIMEZONE:Europe/Madrid
BEGIN:VEVENT
SUMMARY:Inauguració exposició '50 anys. CAMÍ. Escultures' (1973 - 2023)
  al Museu de Badalona
DTSTART;TZID=Europe/Madrid:20230712T190000
DTEND;TZID=Europe/Madrid:20230712T203000
DTSTAMP:20260422T021246Z
UID:fc3947dcca1c480cac0148848f8e947f@www.badalona.cat
CREATED:20231124T085358Z
LAST-MODIFIED:20231124T085358Z
URL:https://www.badalona.cat/ca/actualitat/agenda/35390
END:VEVENT
BEGIN:VTIMEZONE
TZID:Europe/Madrid
X-LIC-LOCATION:Europe/Madrid
BEGIN:DAYLIGHT
DTSTART:20230326T030000
TZNAME:CEST
TZOFFSETFROM:+0100
TZOFFSETTO:+0200
END:DAYLIGHT
END:VTIMEZONE
END:VCALENDAR
