BEGIN:VCALENDAR
VERSION:2.0
PRODID:-//Plone.org//NONSGML plone.app.event//EN
X-WR-TIMEZONE:Europe/Madrid
BEGIN:VEVENT
SUMMARY:Concert de Gabriel Kazz  - Vespres a la fresca a l'Associació de 
 Veïns del Centre
DTSTART;TZID=Europe/Madrid:20230712T190000
DTEND;TZID=Europe/Madrid:20230712T203000
DTSTAMP:20260421T223823Z
UID:287e0c9b68994b1fac2070cb7a02c74e@www.badalona.cat
CREATED:20231124T085358Z
LAST-MODIFIED:20231124T085358Z
URL:https://www.badalona.cat/ca/actualitat/agenda/35389
END:VEVENT
BEGIN:VTIMEZONE
TZID:Europe/Madrid
X-LIC-LOCATION:Europe/Madrid
BEGIN:DAYLIGHT
DTSTART:20230326T030000
TZNAME:CEST
TZOFFSETFROM:+0100
TZOFFSETTO:+0200
END:DAYLIGHT
END:VTIMEZONE
END:VCALENDAR
