BEGIN:VCALENDAR
VERSION:2.0
PRODID:-//Plone.org//NONSGML plone.app.event//EN
X-WR-TIMEZONE:Europe/Madrid
BEGIN:VEVENT
SUMMARY:Cryptshow - Sessió asiàtica
DTSTART;TZID=Europe/Madrid:20230708T210000
DTEND;TZID=Europe/Madrid:20230708T230000
DTSTAMP:20260421T210408Z
UID:7b0b42e49cae493bb11f938187cc17ae@www.badalona.cat
CREATED:20231124T085357Z
LAST-MODIFIED:20231124T085357Z
URL:https://www.badalona.cat/ca/actualitat/agenda/35383
END:VEVENT
BEGIN:VTIMEZONE
TZID:Europe/Madrid
X-LIC-LOCATION:Europe/Madrid
BEGIN:DAYLIGHT
DTSTART:20230326T030000
TZNAME:CEST
TZOFFSETFROM:+0100
TZOFFSETTO:+0200
END:DAYLIGHT
END:VTIMEZONE
END:VCALENDAR
