BEGIN:VCALENDAR
VERSION:2.0
PRODID:-//Plone.org//NONSGML plone.app.event//EN
X-WR-TIMEZONE:Europe/Madrid
BEGIN:VEVENT
SUMMARY:Concert del Sobrino del Diablo i Albert Larios - Vespres a la fres
 ca a l'Associació de Veïns del Centre
DTSTART;TZID=Europe/Madrid:20230708T190000
DTEND;TZID=Europe/Madrid:20230708T203000
DTSTAMP:20260421T195608Z
UID:0e8733363bf24a428c6228a2d2bb9f9e@www.badalona.cat
CREATED:20231124T085357Z
LAST-MODIFIED:20231124T085357Z
URL:https://www.badalona.cat/ca/actualitat/agenda/35381
END:VEVENT
BEGIN:VTIMEZONE
TZID:Europe/Madrid
X-LIC-LOCATION:Europe/Madrid
BEGIN:DAYLIGHT
DTSTART:20230326T030000
TZNAME:CEST
TZOFFSETFROM:+0100
TZOFFSETTO:+0200
END:DAYLIGHT
END:VTIMEZONE
END:VCALENDAR
