BEGIN:VCALENDAR
VERSION:2.0
PRODID:-//Plone.org//NONSGML plone.app.event//EN
X-WR-TIMEZONE:Europe/Madrid
BEGIN:VEVENT
SUMMARY:Cryptshow - Opera Prima
DTSTART;TZID=Europe/Madrid:20230708T110000
DTEND;TZID=Europe/Madrid:20230708T130000
DTSTAMP:20260421T145850Z
UID:6d93b74cec22469d89d736374badb187@www.badalona.cat
CREATED:20231124T085357Z
LAST-MODIFIED:20231124T085357Z
URL:https://www.badalona.cat/ca/actualitat/agenda/35367
END:VEVENT
BEGIN:VTIMEZONE
TZID:Europe/Madrid
X-LIC-LOCATION:Europe/Madrid
BEGIN:DAYLIGHT
DTSTART:20230326T030000
TZNAME:CEST
TZOFFSETFROM:+0100
TZOFFSETTO:+0200
END:DAYLIGHT
END:VTIMEZONE
END:VCALENDAR
