BEGIN:VCALENDAR
VERSION:2.0
PRODID:-//Plone.org//NONSGML plone.app.event//EN
X-WR-TIMEZONE:Europe/Madrid
BEGIN:VEVENT
SUMMARY:FESTIVAL CRYPTSHOW 'Buromania' - 17a edició
DTSTART;TZID=Europe/Madrid:20230707T113000
DTEND;TZID=Europe/Madrid:20230713T230000
DTSTAMP:20260421T145923Z
UID:c8010b40f7974439b02f4adfc054d6e3@www.badalona.cat
CREATED:20231124T085357Z
LAST-MODIFIED:20231124T085357Z
URL:https://www.badalona.cat/ca/actualitat/agenda/35364
END:VEVENT
BEGIN:VTIMEZONE
TZID:Europe/Madrid
X-LIC-LOCATION:Europe/Madrid
BEGIN:DAYLIGHT
DTSTART:20230326T030000
TZNAME:CEST
TZOFFSETFROM:+0100
TZOFFSETTO:+0200
END:DAYLIGHT
END:VTIMEZONE
END:VCALENDAR
