BEGIN:VCALENDAR
VERSION:2.0
PRODID:-//Plone.org//NONSGML plone.app.event//EN
X-WR-TIMEZONE:Europe/Madrid
BEGIN:VEVENT
SUMMARY:Nits d'estiu Òmnium - Concert Ferran Oriols
DTSTART;TZID=Europe/Madrid:20230706T193000
DTEND;TZID=Europe/Madrid:20230706T213000
DTSTAMP:20260423T115404Z
UID:80a0f8300f9b43c89e6e7685631ae3ae@www.badalona.cat
CREATED:20231124T085357Z
LAST-MODIFIED:20231124T085357Z
URL:https://www.badalona.cat/ca/actualitat/agenda/35360
END:VEVENT
BEGIN:VTIMEZONE
TZID:Europe/Madrid
X-LIC-LOCATION:Europe/Madrid
BEGIN:DAYLIGHT
DTSTART:20230326T030000
TZNAME:CEST
TZOFFSETFROM:+0100
TZOFFSETTO:+0200
END:DAYLIGHT
END:VTIMEZONE
END:VCALENDAR
