BEGIN:VCALENDAR
VERSION:2.0
PRODID:-//Plone.org//NONSGML plone.app.event//EN
X-WR-TIMEZONE:Europe/Madrid
BEGIN:VEVENT
SUMMARY:Clàssica i electrònica amb Electro ma non troppo - FESTIVAL REAF
 INA OFF
DTSTART;TZID=Europe/Madrid:20230713T101500
DTEND;TZID=Europe/Madrid:20230713T101500
DTSTAMP:20260423T115431Z
UID:3b0a23ffaaf94a82815340ac5dd9ec5b@www.badalona.cat
CREATED:20231124T085356Z
LAST-MODIFIED:20231124T085356Z
URL:https://www.badalona.cat/ca/actualitat/agenda/35354
END:VEVENT
BEGIN:VTIMEZONE
TZID:Europe/Madrid
X-LIC-LOCATION:Europe/Madrid
BEGIN:DAYLIGHT
DTSTART:20230326T030000
TZNAME:CEST
TZOFFSETFROM:+0100
TZOFFSETTO:+0200
END:DAYLIGHT
END:VTIMEZONE
END:VCALENDAR
