BEGIN:VCALENDAR
VERSION:2.0
PRODID:-//Plone.org//NONSGML plone.app.event//EN
X-WR-TIMEZONE:Europe/Madrid
BEGIN:VEVENT
SUMMARY:Concert Quartet Metamorfosi - Festival Reafina
DTSTART;TZID=Europe/Madrid:20230714T193000
DTEND;TZID=Europe/Madrid:20230714T210000
DTSTAMP:20260422T021135Z
UID:b68fd7faaaf043b2a9504df2779c4793@www.badalona.cat
CREATED:20231124T085356Z
LAST-MODIFIED:20231124T085356Z
URL:https://www.badalona.cat/ca/actualitat/agenda/35344
END:VEVENT
BEGIN:VTIMEZONE
TZID:Europe/Madrid
X-LIC-LOCATION:Europe/Madrid
BEGIN:DAYLIGHT
DTSTART:20230326T030000
TZNAME:CEST
TZOFFSETFROM:+0100
TZOFFSETTO:+0200
END:DAYLIGHT
END:VTIMEZONE
END:VCALENDAR
