BEGIN:VCALENDAR
VERSION:2.0
PRODID:-//Plone.org//NONSGML plone.app.event//EN
X-WR-TIMEZONE:Europe/Madrid
BEGIN:VEVENT
SUMMARY:Nits d'Estiu: Anthus Quintet. Love! 21 h
DTSTART;TZID=Europe/Madrid:20230707T210000
DTEND;TZID=Europe/Madrid:20230707T230000
DTSTAMP:20260421T145924Z
UID:f964ffe0c2d044498d6c8afaf0e60d81@www.badalona.cat
CREATED:20231124T085356Z
LAST-MODIFIED:20231124T085356Z
URL:https://www.badalona.cat/ca/actualitat/agenda/35343
END:VEVENT
BEGIN:VTIMEZONE
TZID:Europe/Madrid
X-LIC-LOCATION:Europe/Madrid
BEGIN:DAYLIGHT
DTSTART:20230326T030000
TZNAME:CEST
TZOFFSETFROM:+0100
TZOFFSETTO:+0200
END:DAYLIGHT
END:VTIMEZONE
END:VCALENDAR
