BEGIN:VCALENDAR
VERSION:2.0
PRODID:-//Plone.org//NONSGML plone.app.event//EN
X-WR-TIMEZONE:Europe/Madrid
BEGIN:VEVENT
SUMMARY:Concert Duo Helios  - Festival Reafina
DTSTART;TZID=Europe/Madrid:20230707T193000
DTEND;TZID=Europe/Madrid:20230707T210000
DTSTAMP:20260421T145924Z
UID:59988d4db0174501964d63d1ddf5228e@www.badalona.cat
CREATED:20231124T085355Z
LAST-MODIFIED:20231124T085355Z
URL:https://www.badalona.cat/ca/actualitat/agenda/35335
END:VEVENT
BEGIN:VTIMEZONE
TZID:Europe/Madrid
X-LIC-LOCATION:Europe/Madrid
BEGIN:DAYLIGHT
DTSTART:20230326T030000
TZNAME:CEST
TZOFFSETFROM:+0100
TZOFFSETTO:+0200
END:DAYLIGHT
END:VTIMEZONE
END:VCALENDAR
