BEGIN:VCALENDAR
VERSION:2.0
PRODID:-//Plone.org//NONSGML plone.app.event//EN
X-WR-TIMEZONE:Europe/Madrid
BEGIN:VEVENT
SUMMARY:Taula rodona sobre Eugeni Forcano i Josep Pla
DTSTART;TZID=Europe/Madrid:20230706T190000
DTEND;TZID=Europe/Madrid:20230706T203000
DTSTAMP:20260421T195608Z
UID:dcda13a5b8a94877b4374bbcfac9f0c6@www.badalona.cat
CREATED:20231124T085355Z
LAST-MODIFIED:20231124T085355Z
URL:https://www.badalona.cat/ca/actualitat/agenda/35334
END:VEVENT
BEGIN:VTIMEZONE
TZID:Europe/Madrid
X-LIC-LOCATION:Europe/Madrid
BEGIN:DAYLIGHT
DTSTART:20230326T030000
TZNAME:CEST
TZOFFSETFROM:+0100
TZOFFSETTO:+0200
END:DAYLIGHT
END:VTIMEZONE
END:VCALENDAR
