BEGIN:VCALENDAR
VERSION:2.0
PRODID:-//Plone.org//NONSGML plone.app.event//EN
X-WR-TIMEZONE:Europe/Madrid
BEGIN:VEVENT
SUMMARY:Música en família amb Patrícia Ventura - Festival Reafina OFF
DTSTART;TZID=Europe/Madrid:20230702T100000
DTEND;TZID=Europe/Madrid:20230702T120000
DTSTAMP:20260421T095314Z
UID:fb61e7cd32014d2dbbcebce5608249ec@www.badalona.cat
CREATED:20231124T085355Z
LAST-MODIFIED:20231124T085355Z
URL:https://www.badalona.cat/ca/actualitat/agenda/35296
END:VEVENT
BEGIN:VTIMEZONE
TZID:Europe/Madrid
X-LIC-LOCATION:Europe/Madrid
BEGIN:DAYLIGHT
DTSTART:20230326T030000
TZNAME:CEST
TZOFFSETFROM:+0100
TZOFFSETTO:+0200
END:DAYLIGHT
END:VTIMEZONE
END:VCALENDAR
