BEGIN:VCALENDAR
VERSION:2.0
PRODID:-//Plone.org//NONSGML plone.app.event//EN
X-WR-TIMEZONE:Europe/Madrid
BEGIN:VEVENT
SUMMARY:Taller amb Patricia Geis
DTSTART;TZID=Europe/Madrid:20230701T113000
DTEND;TZID=Europe/Madrid:20230701T130000
DTSTAMP:20260421T145923Z
UID:68d2669cdc4a4e38833f3fe8f3ac046c@www.badalona.cat
CREATED:20231124T085355Z
LAST-MODIFIED:20231124T085355Z
URL:https://www.badalona.cat/ca/actualitat/agenda/35250
END:VEVENT
BEGIN:VTIMEZONE
TZID:Europe/Madrid
X-LIC-LOCATION:Europe/Madrid
BEGIN:DAYLIGHT
DTSTART:20230326T030000
TZNAME:CEST
TZOFFSETFROM:+0100
TZOFFSETTO:+0200
END:DAYLIGHT
END:VTIMEZONE
END:VCALENDAR
