BEGIN:VCALENDAR
VERSION:2.0
PRODID:-//Plone.org//NONSGML plone.app.event//EN
X-WR-TIMEZONE:Europe/Madrid
BEGIN:VEVENT
SUMMARY:Guanyem un estiu lector
DTSTART;TZID=Europe/Madrid:20230629T173000
DTEND;TZID=Europe/Madrid:20230629T173000
DTSTAMP:20260421T053606Z
UID:539a717352234f2c9261400938c0cd51@www.badalona.cat
CREATED:20231124T085354Z
LAST-MODIFIED:20231124T085354Z
URL:https://www.badalona.cat/ca/actualitat/agenda/35110
END:VEVENT
BEGIN:VTIMEZONE
TZID:Europe/Madrid
X-LIC-LOCATION:Europe/Madrid
BEGIN:DAYLIGHT
DTSTART:20230326T030000
TZNAME:CEST
TZOFFSETFROM:+0100
TZOFFSETTO:+0200
END:DAYLIGHT
END:VTIMEZONE
END:VCALENDAR
