BEGIN:VCALENDAR
VERSION:2.0
PRODID:-//Plone.org//NONSGML plone.app.event//EN
X-WR-TIMEZONE:Europe/Madrid
BEGIN:VEVENT
SUMMARY:Visita guiada a l'exposició: “Les meves fotografies em fan por.
  Eugeni Forcano i Josep Pla"
DTSTART;TZID=Europe/Madrid:20230621T190000
DTEND;TZID=Europe/Madrid:20230621T203000
DTSTAMP:20260421T053643Z
UID:8e78766d37294251987c80e8a2a39616@www.badalona.cat
CREATED:20231124T085353Z
LAST-MODIFIED:20231124T085353Z
URL:https://www.badalona.cat/ca/actualitat/agenda/35096
END:VEVENT
BEGIN:VTIMEZONE
TZID:Europe/Madrid
X-LIC-LOCATION:Europe/Madrid
BEGIN:DAYLIGHT
DTSTART:20230326T030000
TZNAME:CEST
TZOFFSETFROM:+0100
TZOFFSETTO:+0200
END:DAYLIGHT
END:VTIMEZONE
END:VCALENDAR
