BEGIN:VCALENDAR
VERSION:2.0
PRODID:-//Plone.org//NONSGML plone.app.event//EN
X-WR-TIMEZONE:Europe/Madrid
BEGIN:VEVENT
SUMMARY:Jornades Europees d'Arqueologia. Visita guiada al Turó d'en Bosc
 à
DTSTART;TZID=Europe/Madrid:20230617T120000
DTEND;TZID=Europe/Madrid:20230617T133000
DTSTAMP:20260420T182455Z
UID:b2dbd6725ac444dbae6d1929da56669f@www.badalona.cat
CREATED:20231124T085352Z
LAST-MODIFIED:20231124T085352Z
URL:https://www.badalona.cat/ca/actualitat/agenda/34945
END:VEVENT
BEGIN:VTIMEZONE
TZID:Europe/Madrid
X-LIC-LOCATION:Europe/Madrid
BEGIN:DAYLIGHT
DTSTART:20230326T030000
TZNAME:CEST
TZOFFSETFROM:+0100
TZOFFSETTO:+0200
END:DAYLIGHT
END:VTIMEZONE
END:VCALENDAR
