BEGIN:VCALENDAR
VERSION:2.0
PRODID:-//Plone.org//NONSGML plone.app.event//EN
X-WR-TIMEZONE:Europe/Madrid
BEGIN:VEVENT
SUMMARY:Presentació del llibre «TRETZE poetes + UN escultor»
DTSTART;TZID=Europe/Madrid:20230615T190000
DTEND;TZID=Europe/Madrid:20230615T203000
DTSTAMP:20260420T193045Z
UID:e2c256d0f16f42b8b77c699be244a3d8@www.badalona.cat
CREATED:20231124T085351Z
LAST-MODIFIED:20231124T085351Z
URL:https://www.badalona.cat/ca/actualitat/agenda/34940
END:VEVENT
BEGIN:VTIMEZONE
TZID:Europe/Madrid
X-LIC-LOCATION:Europe/Madrid
BEGIN:DAYLIGHT
DTSTART:20230326T030000
TZNAME:CEST
TZOFFSETFROM:+0100
TZOFFSETTO:+0200
END:DAYLIGHT
END:VTIMEZONE
END:VCALENDAR
