BEGIN:VCALENDAR
VERSION:2.0
PRODID:-//Plone.org//NONSGML plone.app.event//EN
X-WR-TIMEZONE:Europe/Madrid
BEGIN:VEVENT
SUMMARY:Descobrim la Serralada de Marina - Laboratori de lectura
DTSTART;TZID=Europe/Madrid:20230614T173000
DTEND;TZID=Europe/Madrid:20230614T183000
DTSTAMP:20260420T143917Z
UID:89e002c8bca44acd9246c75d537a5c74@www.badalona.cat
CREATED:20231124T085351Z
LAST-MODIFIED:20231124T085351Z
URL:https://www.badalona.cat/ca/actualitat/agenda/34924
END:VEVENT
BEGIN:VTIMEZONE
TZID:Europe/Madrid
X-LIC-LOCATION:Europe/Madrid
BEGIN:DAYLIGHT
DTSTART:20230326T030000
TZNAME:CEST
TZOFFSETFROM:+0100
TZOFFSETTO:+0200
END:DAYLIGHT
END:VTIMEZONE
END:VCALENDAR
