BEGIN:VCALENDAR
VERSION:2.0
PRODID:-//Plone.org//NONSGML plone.app.event//EN
X-WR-TIMEZONE:Europe/Madrid
BEGIN:VEVENT
SUMMARY:XXXVI CORREFOC DE LLEFIÀ
DTSTART;TZID=Europe/Madrid:20230610T193000
DTEND;TZID=Europe/Madrid:20230610T235500
DTSTAMP:20260420T114134Z
UID:720b5af83ba54588a6040de49315d8a6@www.badalona.cat
CREATED:20231124T085351Z
LAST-MODIFIED:20231124T085351Z
URL:https://www.badalona.cat/ca/actualitat/agenda/34879
END:VEVENT
BEGIN:VTIMEZONE
TZID:Europe/Madrid
X-LIC-LOCATION:Europe/Madrid
BEGIN:DAYLIGHT
DTSTART:20230326T030000
TZNAME:CEST
TZOFFSETFROM:+0100
TZOFFSETTO:+0200
END:DAYLIGHT
END:VTIMEZONE
END:VCALENDAR
